BEGIN:VCALENDAR
VERSION:2.0
PRODID:-//https://cienciapolitica.uc.cl///NONSGML kigkonsult.se iCalcreator 2.10.15//
METHOD:PUBLISH
BEGIN:VEVENT
UID:20260423T190616UTC-9669C3dSRC@https://cienciapolitica.uc.cl/
DTSTAMP:20260423T190616Z
DESCRIPTION:La novena versión de la&nbsp\;Escuela de Verano de Métodos Mixt
 os (EVMM)&nbsp\;se realizará entre el lunes 6 y el sábado 11 de enero de 2
 025\, en el Instituto de Ciencia Política de la Pontificia Universidad Cat
 ólica de Chile (Campus San Joaquín). Este evento\, coordinado por las prof
 esoras&nbsp\;Carla Alberti&nbsp\;y&nbsp\;Catherine Reyes-Housholder\, reún
 e a destacados investigadores internacionales y nacionales con el objetivo
  de fomentar el aprendizaje\, el intercambio académico y la reflexión sobr
 e metodologías de investigación en ciencia política y disciplinas afines.
 \nDurante la EVMM\, los participantes tendrán la oportunidad de asistir a 
 conferencias sobre temas de vanguardia como&nbsp\;conceptos y medición\, i
 nferencia causal\, experimentos\, análisis de archivos\, big data\, proces
 s tracing\, entrevistas y trabajo de campo.\nLa EVMM 2025 contará con dest
 acados académicos internacionales y nacionales y es organizada por el Inst
 ituto de Ciencia Política UC\, la Vicerrectoría de Investigación UC\, la A
 sociación Chilena de Ciencia Política (ACCP)\, la Sociedad Argentina del A
 nálisis Político (SAAP) y la Asociación Latinoamericana de Ciencia Polític
 a (ALACIP). https://cienciapolitica.uc.cl/component/rseventspro/evento/83-
 instituto-de-ciencia-politica-escuela-de-verano-de-metodos-mixtos-evmm?Ite
 mid=5555
DTSTART:20250106T120000Z
DTEND:20250111T230000Z
LOCATION:Campus San Joaquín - Facultad de Historia Geografía y Ciencia Polí
 tica ()
SUMMARY:[Instituto de Ciencia Política] Escuela de Verano de Métodos Mixtos
  (EVMM)
URL:https://cienciapolitica.uc.cl/component/rseventspro/evento/83-instituto
 -de-ciencia-politica-escuela-de-verano-de-metodos-mixtos-evmm?Itemid=5555
END:VEVENT
END:VCALENDAR
