BEGIN:VCALENDAR
VERSION:2.0
PRODID:-//https://cienciapolitica.uc.cl///NONSGML kigkonsult.se iCalcreator 2.10.15//
METHOD:PUBLISH
BEGIN:VEVENT
UID:20260424T233131UTC-4121AdKAks@https://cienciapolitica.uc.cl/
DTSTAMP:20260424T233131Z
DESCRIPTION:El evento es una charla abierta organizada por el Instituto de 
 Ciencia Política de la Facultad de Historia\, Geografía y Ciencia Política
  de la Pontificia Universidad Católica de Chile. La charla\, titulada 'Ele
 cciones 2024: El sistema electoral de Estados Unidos'\, busca analizar y e
 xplicar el funcionamiento del sistema electoral estadounidense de cara a l
 as próximas elecciones presidenciales.\nDetalles:\nExpositor: David Anthon
 y Rodriguez\, Jefe de la Unidad Política de la Embajada de Estados Unidos 
 en Santiago de Chile\, quien compartirá su experiencia y visión sobre el t
 ema.\nModeradora: Federica Sánchez-Staniak\, Doctora en Ciencia Política p
 or la Universidad Católica de Chile y Master en Ciencias Políticas por la 
 Universidad de Houston\, quien guiará la discusión y proporcionará context
 o académico.\nLa charla se llevará a cabo el jueves 24 de octubre\, en la 
 Sala Seminario de la Facultad\, de 16:10 a 17:20 horas.\nEste evento es un
 a oportunidad para estudiantes\, académicos y el público interesado en con
 ocer más sobre el proceso electoral en Estados Unidos\, cómo se estructura
  y cuáles son sus implicancias para la democracia. https://cienciapolitica
 .uc.cl/agenda/evento/75-charla-abierta-elecciones-2024-el-sistema-electora
 l-de-estados-unidos
DTSTART:20241024T191000Z
DTEND:20241024T202000Z
LOCATION:Sala Seminario Facultad Historia Geografía y Ciencia Política ()
SUMMARY:Charla Abierta: “Elecciones 2024: El sistema electoral de Estados U
 nidos”
URL:https://cienciapolitica.uc.cl/agenda/evento/75-charla-abierta-eleccione
 s-2024-el-sistema-electoral-de-estados-unidos
END:VEVENT
END:VCALENDAR
