BEGIN:VCALENDAR
VERSION:2.0
PRODID:-//https://cienciapolitica.uc.cl///NONSGML kigkonsult.se iCalcreator 2.10.15//
METHOD:PUBLISH
BEGIN:VEVENT
UID:20260421T124548UTC-5803kkd5kb@https://cienciapolitica.uc.cl/
DTSTAMP:20260421T124548Z
DESCRIPTION:\nLas clases para estudiantes nuevos y antiguos comenzarán el d
 ía lunes 6 de marzo\n https://cienciapolitica.uc.cl/agenda/evento/33-inici
 o-de-clases-1er-semestre-estudiantes-nuevos-y-antiguos
DTSTART:20240306T113000Z
DTEND:20240306T210000Z
LOCATION:Campus San Joaquín  (Av. Vicuña Mackenna 4860\, Macul)
SUMMARY:Inicio de clases 1er semestre Estudiantes Nuevos y Antiguos
URL:https://cienciapolitica.uc.cl/agenda/evento/33-inicio-de-clases-1er-sem
 estre-estudiantes-nuevos-y-antiguos
END:VEVENT
END:VCALENDAR
